BEGIN:VCALENDAR
VERSION:2.0
PRODID:-//Barrie Hill United Church - ECPv5.14.1//NONSGML v1.0//EN
CALSCALE:GREGORIAN
METHOD:PUBLISH
X-WR-CALNAME:Barrie Hill United Church
X-ORIGINAL-URL:https://barriehillunitedchurch.com
X-WR-CALDESC:Events for Barrie Hill United Church
REFRESH-INTERVAL;VALUE=DURATION:PT1H
X-Robots-Tag:noindex
X-PUBLISHED-TTL:PT1H
BEGIN:VTIMEZONE
TZID:America/Toronto
BEGIN:DAYLIGHT
TZOFFSETFROM:-0500
TZOFFSETTO:-0400
TZNAME:EDT
DTSTART:20250309T070000
END:DAYLIGHT
BEGIN:STANDARD
TZOFFSETFROM:-0400
TZOFFSETTO:-0500
TZNAME:EST
DTSTART:20251102T060000
END:STANDARD
END:VTIMEZONE
BEGIN:VEVENT
DTSTART;TZID=America/Toronto:20250323T100000
DTEND;TZID=America/Toronto:20250323T110000
DTSTAMP:20260421T055803
CREATED:20250216T025300Z
LAST-MODIFIED:20250216T025300Z
UID:3121-1742724000-1742727600@barriehillunitedchurch.com
SUMMARY:Combined Service - Speedside
DESCRIPTION:Eramosa Pastoral Charge – Winter Joint Services\nWe will meet on the following dates\nfor a single service at 10am\n• February 23 – Speedside – Rev. Tom Watson\n• March 2 – Barrie Hill – Rev. Andrew Hyde\n• March 9 – Barrie Hill – Rev. Tom Watson\n• March 16 – Barrie Hill – Paul Knierim\n• March 23 – Speedside – Rev. Tom Watson\n• March 30 – Speedside – Paul Knierim
URL:https://barriehillunitedchurch.com/event/combined-service-speedside-2/
LOCATION:Speedside United Church\, 5903 Wellington Rd 29\, Rockwood\, ON\, N0B 2K0\, Canada
CATEGORIES:Church Services
ATTACH;FMTTYPE=image/jpeg:https://barriehillunitedchurch.com/bhuc2021/wp-content/uploads/2022/09/images.jpg
END:VEVENT
END:VCALENDAR